BEGIN:VCALENDAR
VERSION:2.0
PRODID:-//Tukios.com/
BEGIN:VEVENT
UID:dbb981cb-a7c4-4d15-8e38-3d3413dd1383@www.munsonloveterefuneralhome.com
DTSTAMP:20260420T235403Z
DTSTART:20260427T140000Z
DTEND:20260427T150000Z
SUMMARY:Mass
DESCRIPTION:
URL:https://www.munsonloveterefuneralhome.com/obituaries/vincent-blake
LOCATION: 910 Main St S  Southbury CT 06488
GEO:41.4610855;-73.2358277
END:VEVENT
END:VCALENDAR