BEGIN:VCALENDAR
VERSION:2.0
PRODID:-//Tukios.com/
BEGIN:VEVENT
UID:6880f114-4e1c-4d63-a50c-13b9aefa9da5@www.munsonloveterefuneralhome.com
DTSTAMP:20260421T000610Z
DTSTART:20260426T170000Z
DTEND:20260426T200000Z
SUMMARY:Visitation
DESCRIPTION:
URL:https://www.munsonloveterefuneralhome.com/obituaries/vincent-blake
LOCATION: 235 Main St N  Southbury CT 06488
GEO:41.4830008;-73.2134557
END:VEVENT
END:VCALENDAR