BEGIN:VCALENDAR
VERSION:2.0
PRODID:-//Tukios.com/
BEGIN:VEVENT
UID:da4c822d-8466-4115-96bf-b013ac6bb403@www.munsonloveterefuneralhome.com
DTSTAMP:20260420T023904Z
DTSTART:20260423T150000Z
DTEND:20260423T170000Z
SUMMARY:Visitation
DESCRIPTION:
URL:https://www.munsonloveterefuneralhome.com/obituaries/ryan-j-anderson
LOCATION: 235 Main St N  Southbury CT 06488
GEO:41.4830008;-73.2134557
END:VEVENT
END:VCALENDAR