BEGIN:VCALENDAR
VERSION:2.0
PRODID:-//Tukios.com/
BEGIN:VEVENT
UID:8e8ee281-b646-4ecf-977e-89c01db354ce@www.munsonloveterefuneralhome.com
DTSTAMP:20260420T005423Z
DTSTART:20260422T203000Z
DTEND:20260422T213000Z
SUMMARY:Prayer Service
DESCRIPTION:
URL:https://www.munsonloveterefuneralhome.com/obituaries/ryan-anderson
LOCATION:Munson Lovetere Funeral Home 235 Main Street North  Southbury CT 
	06488
GEO:41.4830008;-73.2134557
END:VEVENT
END:VCALENDAR