BEGIN:VCALENDAR
VERSION:2.0
PRODID:-//Tukios.com/
BEGIN:VEVENT
UID:f0bc33fb-36bf-4958-b164-fea1476b6fa4@www.munsonloveterefuneralhome.com
DTSTAMP:20260420T005410Z
DTSTART:20260422T190000Z
DTEND:20260422T210000Z
SUMMARY:Visitation
DESCRIPTION:
URL:https://www.munsonloveterefuneralhome.com/obituaries/ryan-anderson
LOCATION: 235 Main St N  Southbury CT 06488
GEO:41.4830008;-73.2134557
END:VEVENT
END:VCALENDAR