BEGIN:VCALENDAR
VERSION:2.0
PRODID:-//Tukios.com/
BEGIN:VEVENT
UID:9e17ae7c-39ba-48ca-8de3-31fb72d36265@www.munsonloveterefuneralhome.com
DTSTAMP:20260420T191523Z
DTSTART:20260502T163000Z
DTEND:20260502T173000Z
SUMMARY:Prayer Service
DESCRIPTION:
URL:https://www.munsonloveterefuneralhome.com/obituaries/denis-anctil
LOCATION:Munson Lovetere Funeral Home 235 Main Street North  Southbury CT 
	06488
GEO:41.4830008;-73.2134557
END:VEVENT
END:VCALENDAR