BEGIN:VCALENDAR
VERSION:2.0
PRODID:-//Tukios.com/
BEGIN:VEVENT
UID:e05969ec-f7bb-44bd-924b-15fab80e616f@www.munsonloveterefuneralhome.com
DTSTAMP:20260420T191349Z
DTSTART:20260502T150000Z
DTEND:20260502T163000Z
SUMMARY:Visitation
DESCRIPTION:
URL:https://www.munsonloveterefuneralhome.com/obituaries/denis-anctil
LOCATION:Munson Lovetere Funeral Home 235 Main Street North  Southbury CT 
	06488
GEO:41.4830008;-73.2134557
END:VEVENT
END:VCALENDAR